BEGIN:VCALENDAR
VERSION:2.0
PRODID:-//wp-events-plugin.com//7.2.3.1//EN
BEGIN:VEVENT
UID:1@dharmasamsthan.com
DTSTART:20260317T000000Z
DTEND:20260317T000000Z
DTSTAMP:20260314T193935Z
URL:https://dharmasamsthan.com/events/sri-matra-homam/
SUMMARY:Sri Matra Homam
DESCRIPTION:
END:VEVENT
END:VCALENDAR