BEGIN:VCALENDAR
VERSION:2.0
PRODID:-//dharmasamsthan.com - ECPv6.15.20//NONSGML v1.0//EN
CALSCALE:GREGORIAN
METHOD:PUBLISH
X-ORIGINAL-URL:https://dharmasamsthan.com
X-WR-CALDESC:Events for dharmasamsthan.com
REFRESH-INTERVAL;VALUE=DURATION:PT1H
X-Robots-Tag:noindex
X-PUBLISHED-TTL:PT1H
BEGIN:VTIMEZONE
TZID:UTC
BEGIN:STANDARD
TZOFFSETFROM:+0000
TZOFFSETTO:+0000
TZNAME:UTC
DTSTART:20250101T000000
END:STANDARD
END:VTIMEZONE
BEGIN:VEVENT
DTSTART;TZID=UTC:20261208T080000
DTEND;TZID=UTC:20261208T170000
DTSTAMP:20260426T002103
CREATED:20260423T155845Z
LAST-MODIFIED:20260423T155856Z
UID:11893-1796716800-1796749200@dharmasamsthan.com
SUMMARY:purnima suklaa
DESCRIPTION:
URL:https://dharmasamsthan.com/event/purnima-suklaa/
END:VEVENT
END:VCALENDAR