BEGIN:VCALENDAR
VERSION:2.0
PRODID:-//dharmasamsthan.com - ECPv6.15.20//NONSGML v1.0//EN
CALSCALE:GREGORIAN
METHOD:PUBLISH
X-ORIGINAL-URL:https://dharmasamsthan.com
X-WR-CALDESC:Events for dharmasamsthan.com
REFRESH-INTERVAL;VALUE=DURATION:PT1H
X-Robots-Tag:noindex
X-PUBLISHED-TTL:PT1H
BEGIN:VTIMEZONE
TZID:Asia/Kolkata
BEGIN:STANDARD
TZOFFSETFROM:+0530
TZOFFSETTO:+0530
TZNAME:IST
DTSTART:20250101T000000
END:STANDARD
END:VTIMEZONE
BEGIN:VEVENT
DTSTART;TZID=Asia/Kolkata:20260701T000000
DTEND;TZID=Asia/Kolkata:20260701T235900
DTSTAMP:20260425T191026
CREATED:20260101T104735Z
LAST-MODIFIED:20260101T104735Z
UID:9055-1782864000-1782950340@dharmasamsthan.com
SUMMARY:Pratipada Krishna
DESCRIPTION:Auto-imported Vedic Tithi Event
URL:https://dharmasamsthan.com/event/pratipada-krishna-20260701/
END:VEVENT
BEGIN:VEVENT
DTSTART;TZID=Asia/Kolkata:20260702T000000
DTEND;TZID=Asia/Kolkata:20260702T235900
DTSTAMP:20260425T191026
CREATED:20260101T104735Z
LAST-MODIFIED:20260101T104735Z
UID:9056-1782950400-1783036740@dharmasamsthan.com
SUMMARY:Diwitiya Krishna
DESCRIPTION:Auto-imported Vedic Tithi Event
URL:https://dharmasamsthan.com/event/diwitiya-krishna-20260702/
END:VEVENT
BEGIN:VEVENT
DTSTART;TZID=Asia/Kolkata:20260703T000000
DTEND;TZID=Asia/Kolkata:20260703T235900
DTSTAMP:20260425T191026
CREATED:20260101T104735Z
LAST-MODIFIED:20260101T104735Z
UID:9057-1783036800-1783123140@dharmasamsthan.com
SUMMARY:Tritiya Krishna
DESCRIPTION:Auto-imported Vedic Tithi Event
URL:https://dharmasamsthan.com/event/tritiya-krishna-20260703/
END:VEVENT
BEGIN:VEVENT
DTSTART;TZID=Asia/Kolkata:20260704T000000
DTEND;TZID=Asia/Kolkata:20260704T235900
DTSTAMP:20260425T191026
CREATED:20260101T104735Z
LAST-MODIFIED:20260101T104735Z
UID:9058-1783123200-1783209540@dharmasamsthan.com
SUMMARY:Chaturthi Krishna
DESCRIPTION:Auto-imported Vedic Tithi Event
URL:https://dharmasamsthan.com/event/chaturthi-krishna-20260704/
END:VEVENT
BEGIN:VEVENT
DTSTART;TZID=Asia/Kolkata:20260705T000000
DTEND;TZID=Asia/Kolkata:20260705T235900
DTSTAMP:20260425T191026
CREATED:20260101T104735Z
LAST-MODIFIED:20260101T104735Z
UID:9059-1783209600-1783295940@dharmasamsthan.com
SUMMARY:Panchami Krishna
DESCRIPTION:Auto-imported Vedic Tithi Event
URL:https://dharmasamsthan.com/event/panchami-krishna-20260705/
END:VEVENT
BEGIN:VEVENT
DTSTART;TZID=Asia/Kolkata:20260706T000000
DTEND;TZID=Asia/Kolkata:20260706T235900
DTSTAMP:20260425T191026
CREATED:20260101T104735Z
LAST-MODIFIED:20260101T104735Z
UID:9060-1783296000-1783382340@dharmasamsthan.com
SUMMARY:Shashthi Krishna
DESCRIPTION:Auto-imported Vedic Tithi Event
URL:https://dharmasamsthan.com/event/shashthi-krishna-20260706/
END:VEVENT
BEGIN:VEVENT
DTSTART;TZID=Asia/Kolkata:20260707T000000
DTEND;TZID=Asia/Kolkata:20260707T235900
DTSTAMP:20260425T191026
CREATED:20260101T104735Z
LAST-MODIFIED:20260101T104735Z
UID:9061-1783382400-1783468740@dharmasamsthan.com
SUMMARY:Saptami Krihsna
DESCRIPTION:Auto-imported Vedic Tithi Event
URL:https://dharmasamsthan.com/event/saptami-krihsna-20260707/
END:VEVENT
BEGIN:VEVENT
DTSTART;TZID=Asia/Kolkata:20260708T000000
DTEND;TZID=Asia/Kolkata:20260708T235900
DTSTAMP:20260425T191026
CREATED:20260101T104735Z
LAST-MODIFIED:20260101T104735Z
UID:9062-1783468800-1783555140@dharmasamsthan.com
SUMMARY:Ashtami Krishna
DESCRIPTION:Auto-imported Vedic Tithi Event
URL:https://dharmasamsthan.com/event/ashtami-krishna-20260708/
END:VEVENT
BEGIN:VEVENT
DTSTART;TZID=Asia/Kolkata:20260709T000000
DTEND;TZID=Asia/Kolkata:20260709T235900
DTSTAMP:20260425T191026
CREATED:20260101T104735Z
LAST-MODIFIED:20260101T104735Z
UID:9063-1783555200-1783641540@dharmasamsthan.com
SUMMARY:Navami Krishna
DESCRIPTION:Auto-imported Vedic Tithi Event
URL:https://dharmasamsthan.com/event/navami-krishna-20260709/
END:VEVENT
BEGIN:VEVENT
DTSTART;TZID=Asia/Kolkata:20260710T000000
DTEND;TZID=Asia/Kolkata:20260710T235900
DTSTAMP:20260425T191026
CREATED:20260101T104735Z
LAST-MODIFIED:20260101T104735Z
UID:9064-1783641600-1783727940@dharmasamsthan.com
SUMMARY:Dashmi Krishna
DESCRIPTION:Auto-imported Vedic Tithi Event
URL:https://dharmasamsthan.com/event/dashmi-krishna-20260710/
END:VEVENT
BEGIN:VEVENT
DTSTART;TZID=Asia/Kolkata:20260711T000000
DTEND;TZID=Asia/Kolkata:20260711T235900
DTSTAMP:20260425T191026
CREATED:20260101T104735Z
LAST-MODIFIED:20260101T104735Z
UID:9065-1783728000-1783814340@dharmasamsthan.com
SUMMARY:Dwadashi Krishnma
DESCRIPTION:Auto-imported Vedic Tithi Event
URL:https://dharmasamsthan.com/event/dwadashi-krishnma-20260711/
END:VEVENT
BEGIN:VEVENT
DTSTART;TZID=Asia/Kolkata:20260712T000000
DTEND;TZID=Asia/Kolkata:20260712T235900
DTSTAMP:20260425T191026
CREATED:20260101T104735Z
LAST-MODIFIED:20260101T104735Z
UID:9066-1783814400-1783900740@dharmasamsthan.com
SUMMARY:Trayodashi Krishna
DESCRIPTION:Auto-imported Vedic Tithi Event
URL:https://dharmasamsthan.com/event/trayodashi-krishna-20260712/
END:VEVENT
BEGIN:VEVENT
DTSTART;TZID=Asia/Kolkata:20260713T000000
DTEND;TZID=Asia/Kolkata:20260713T235900
DTSTAMP:20260425T191026
CREATED:20260101T104735Z
LAST-MODIFIED:20260101T104735Z
UID:9067-1783900800-1783987140@dharmasamsthan.com
SUMMARY:Chaturdashi Krishna
DESCRIPTION:Auto-imported Vedic Tithi Event
URL:https://dharmasamsthan.com/event/chaturdashi-krishna-20260713/
END:VEVENT
BEGIN:VEVENT
DTSTART;TZID=Asia/Kolkata:20260714T000000
DTEND;TZID=Asia/Kolkata:20260714T235900
DTSTAMP:20260425T191026
CREATED:20260101T104735Z
LAST-MODIFIED:20260101T104735Z
UID:9068-1783987200-1784073540@dharmasamsthan.com
SUMMARY:Amavashya Krishna
DESCRIPTION:Auto-imported Vedic Tithi Event
URL:https://dharmasamsthan.com/event/amavashya-krishna-20260714/
END:VEVENT
BEGIN:VEVENT
DTSTART;TZID=Asia/Kolkata:20260715T000000
DTEND;TZID=Asia/Kolkata:20260715T235900
DTSTAMP:20260425T191026
CREATED:20260101T104735Z
LAST-MODIFIED:20260101T104735Z
UID:9069-1784073600-1784159940@dharmasamsthan.com
SUMMARY:Pratipada Shukla
DESCRIPTION:Auto-imported Vedic Tithi Event
URL:https://dharmasamsthan.com/event/pratipada-shukla-20260715/
END:VEVENT
BEGIN:VEVENT
DTSTART;TZID=Asia/Kolkata:20260716T000000
DTEND;TZID=Asia/Kolkata:20260716T235900
DTSTAMP:20260425T191026
CREATED:20260101T104735Z
LAST-MODIFIED:20260101T104735Z
UID:9070-1784160000-1784246340@dharmasamsthan.com
SUMMARY:Diwitiya Shukla
DESCRIPTION:Auto-imported Vedic Tithi Event
URL:https://dharmasamsthan.com/event/diwitiya-shukla-20260716/
END:VEVENT
BEGIN:VEVENT
DTSTART;TZID=Asia/Kolkata:20260717T000000
DTEND;TZID=Asia/Kolkata:20260717T235900
DTSTAMP:20260425T191026
CREATED:20260101T104735Z
LAST-MODIFIED:20260101T104735Z
UID:9071-1784246400-1784332740@dharmasamsthan.com
SUMMARY:Tritiya Shukla
DESCRIPTION:Auto-imported Vedic Tithi Event
URL:https://dharmasamsthan.com/event/tritiya-shukla-20260717/
END:VEVENT
BEGIN:VEVENT
DTSTART;TZID=Asia/Kolkata:20260718T000000
DTEND;TZID=Asia/Kolkata:20260718T235900
DTSTAMP:20260425T191026
CREATED:20260101T104735Z
LAST-MODIFIED:20260101T104735Z
UID:9072-1784332800-1784419140@dharmasamsthan.com
SUMMARY:Panchami Shukla
DESCRIPTION:Auto-imported Vedic Tithi Event
URL:https://dharmasamsthan.com/event/panchami-shukla-20260718/
END:VEVENT
BEGIN:VEVENT
DTSTART;TZID=Asia/Kolkata:20260719T000000
DTEND;TZID=Asia/Kolkata:20260719T235900
DTSTAMP:20260425T191026
CREATED:20260101T104735Z
LAST-MODIFIED:20260101T104735Z
UID:9073-1784419200-1784505540@dharmasamsthan.com
SUMMARY:Shashthi Shukla
DESCRIPTION:Auto-imported Vedic Tithi Event
URL:https://dharmasamsthan.com/event/shashthi-shukla-20260719/
END:VEVENT
BEGIN:VEVENT
DTSTART;TZID=Asia/Kolkata:20260720T000000
DTEND;TZID=Asia/Kolkata:20260720T235900
DTSTAMP:20260425T191026
CREATED:20260101T104735Z
LAST-MODIFIED:20260101T104735Z
UID:9074-1784505600-1784591940@dharmasamsthan.com
SUMMARY:Saptami Shukla
DESCRIPTION:Auto-imported Vedic Tithi Event
URL:https://dharmasamsthan.com/event/saptami-shukla-20260720/
END:VEVENT
BEGIN:VEVENT
DTSTART;TZID=Asia/Kolkata:20260721T000000
DTEND;TZID=Asia/Kolkata:20260721T235900
DTSTAMP:20260425T191026
CREATED:20260101T104735Z
LAST-MODIFIED:20260101T104735Z
UID:9075-1784592000-1784678340@dharmasamsthan.com
SUMMARY:Ashtami Shukla
DESCRIPTION:Auto-imported Vedic Tithi Event
URL:https://dharmasamsthan.com/event/ashtami-shukla-20260721/
END:VEVENT
BEGIN:VEVENT
DTSTART;TZID=Asia/Kolkata:20260722T000000
DTEND;TZID=Asia/Kolkata:20260722T235900
DTSTAMP:20260425T191026
CREATED:20260101T104735Z
LAST-MODIFIED:20260101T104735Z
UID:9076-1784678400-1784764740@dharmasamsthan.com
SUMMARY:Navami Shukla
DESCRIPTION:Auto-imported Vedic Tithi Event
URL:https://dharmasamsthan.com/event/navami-shukla-20260722/
END:VEVENT
BEGIN:VEVENT
DTSTART;TZID=Asia/Kolkata:20260723T000000
DTEND;TZID=Asia/Kolkata:20260723T235900
DTSTAMP:20260425T191026
CREATED:20260101T104735Z
LAST-MODIFIED:20260101T104735Z
UID:9077-1784764800-1784851140@dharmasamsthan.com
SUMMARY:Navami Shukla
DESCRIPTION:Auto-imported Vedic Tithi Event
URL:https://dharmasamsthan.com/event/navami-shukla-20260723/
END:VEVENT
BEGIN:VEVENT
DTSTART;TZID=Asia/Kolkata:20260724T000000
DTEND;TZID=Asia/Kolkata:20260724T235900
DTSTAMP:20260425T191026
CREATED:20260101T104735Z
LAST-MODIFIED:20260101T104735Z
UID:9078-1784851200-1784937540@dharmasamsthan.com
SUMMARY:Dashmi Shukla
DESCRIPTION:Auto-imported Vedic Tithi Event
URL:https://dharmasamsthan.com/event/dashmi-shukla-20260724/
END:VEVENT
BEGIN:VEVENT
DTSTART;TZID=Asia/Kolkata:20260725T000000
DTEND;TZID=Asia/Kolkata:20260725T235900
DTSTAMP:20260425T191026
CREATED:20260101T104735Z
LAST-MODIFIED:20260423T155510Z
UID:9079-1784937600-1785023940@dharmasamsthan.com
SUMMARY:Ekadashi Shukla
DESCRIPTION:
URL:https://dharmasamsthan.com/event/ekadashi-shukla-20260725/
END:VEVENT
BEGIN:VEVENT
DTSTART;TZID=Asia/Kolkata:20260726T000000
DTEND;TZID=Asia/Kolkata:20260726T235900
DTSTAMP:20260425T191026
CREATED:20260101T104735Z
LAST-MODIFIED:20260101T104735Z
UID:9080-1785024000-1785110340@dharmasamsthan.com
SUMMARY:Dwadashi Shukla
DESCRIPTION:Auto-imported Vedic Tithi Event
URL:https://dharmasamsthan.com/event/dwadashi-shukla-20260726/
END:VEVENT
BEGIN:VEVENT
DTSTART;TZID=Asia/Kolkata:20260727T000000
DTEND;TZID=Asia/Kolkata:20260727T235900
DTSTAMP:20260425T191026
CREATED:20260101T104735Z
LAST-MODIFIED:20260101T104735Z
UID:9081-1785110400-1785196740@dharmasamsthan.com
SUMMARY:Trayodashi Shukla
DESCRIPTION:Auto-imported Vedic Tithi Event
URL:https://dharmasamsthan.com/event/trayodashi-shukla-20260727/
END:VEVENT
BEGIN:VEVENT
DTSTART;TZID=Asia/Kolkata:20260728T000000
DTEND;TZID=Asia/Kolkata:20260728T235900
DTSTAMP:20260425T191026
CREATED:20260101T104735Z
LAST-MODIFIED:20260101T104735Z
UID:9082-1785196800-1785283140@dharmasamsthan.com
SUMMARY:Chaturdashi Shukla
DESCRIPTION:Auto-imported Vedic Tithi Event
URL:https://dharmasamsthan.com/event/chaturdashi-shukla-20260728/
END:VEVENT
BEGIN:VEVENT
DTSTART;TZID=Asia/Kolkata:20260729T000000
DTEND;TZID=Asia/Kolkata:20260729T235900
DTSTAMP:20260425T191026
CREATED:20260101T104735Z
LAST-MODIFIED:20260101T104735Z
UID:9083-1785283200-1785369540@dharmasamsthan.com
SUMMARY:Purnima Shukla
DESCRIPTION:Auto-imported Vedic Tithi Event
URL:https://dharmasamsthan.com/event/purnima-shukla-20260729/
END:VEVENT
BEGIN:VEVENT
DTSTART;TZID=Asia/Kolkata:20260730T000000
DTEND;TZID=Asia/Kolkata:20260730T235900
DTSTAMP:20260425T191026
CREATED:20260101T104735Z
LAST-MODIFIED:20260101T104735Z
UID:9084-1785369600-1785455940@dharmasamsthan.com
SUMMARY:Pratipada Krishna
DESCRIPTION:Auto-imported Vedic Tithi Event
URL:https://dharmasamsthan.com/event/pratipada-krishna-20260730/
END:VEVENT
END:VCALENDAR